BEGIN:VCALENDAR
VERSION:2.0
PRODID:-//Mosaic Church Fort Worth - ECPv6.15.20//NONSGML v1.0//EN
CALSCALE:GREGORIAN
METHOD:PUBLISH
X-WR-CALNAME:Mosaic Church Fort Worth
X-ORIGINAL-URL:https://mosaicfortworth.com
X-WR-CALDESC:Events for Mosaic Church Fort Worth
REFRESH-INTERVAL;VALUE=DURATION:PT1H
X-Robots-Tag:noindex
X-PUBLISHED-TTL:PT1H
BEGIN:VTIMEZONE
TZID:America/Chicago
BEGIN:DAYLIGHT
TZOFFSETFROM:-0600
TZOFFSETTO:-0500
TZNAME:CDT
DTSTART:20250309T080000
END:DAYLIGHT
BEGIN:STANDARD
TZOFFSETFROM:-0500
TZOFFSETTO:-0600
TZNAME:CST
DTSTART:20251102T070000
END:STANDARD
BEGIN:DAYLIGHT
TZOFFSETFROM:-0600
TZOFFSETTO:-0500
TZNAME:CDT
DTSTART:20260308T080000
END:DAYLIGHT
BEGIN:STANDARD
TZOFFSETFROM:-0500
TZOFFSETTO:-0600
TZNAME:CST
DTSTART:20261101T070000
END:STANDARD
BEGIN:DAYLIGHT
TZOFFSETFROM:-0600
TZOFFSETTO:-0500
TZNAME:CDT
DTSTART:20270314T080000
END:DAYLIGHT
BEGIN:STANDARD
TZOFFSETFROM:-0500
TZOFFSETTO:-0600
TZNAME:CST
DTSTART:20271107T070000
END:STANDARD
END:VTIMEZONE
BEGIN:VEVENT
DTSTART;TZID=America/Chicago:20260705T103000
DTEND;TZID=America/Chicago:20260705T104500
DTSTAMP:20260421T182429
CREATED:20260401T164659Z
LAST-MODIFIED:20260401T164659Z
UID:7536-1783247400-1783248300@mosaicfortworth.com
SUMMARY:Sunday Prayer
DESCRIPTION:Kick off your day with purpose and peace! Join us every Sunday at 10:30am for a powerful and refreshing time of Sunday Prayer. \nPrayer attunes our hearts\, aligns us with God’s presence\, and prepares us to worship with faith and expectation. No matter where you are in your prayer journey\, there’s a place with God for you here. \nIt’s a meaningful time to seek God together\, lift up our church and community\, and start the day grounded in His peace and power.  \nArrive a little early\, connect with God and others\, and be uplifted and open to what God has in store. \nWe’d love to have you with us. \n#PrayTogether #SeekJesus
URL:https://mosaicfortworth.com/event/sunday-prayer-14/
LOCATION:Rolling Hills Elementary School\, 10351 Orchard Way\, Fort Worth\, TX\, 76126\, United States
CATEGORIES:Community,Missions,Prayer,Worship
ATTACH;FMTTYPE=image/jpeg:https://mosaicfortworth.com/wp-content/uploads/2026/03/C7E99A41-267F-41D1-9865-9D917645EAFA.jpg
END:VEVENT
BEGIN:VEVENT
DTSTART;TZID=America/Chicago:20260705T110000
DTEND;TZID=America/Chicago:20260705T123000
DTSTAMP:20260421T182429
CREATED:20260331T173257Z
LAST-MODIFIED:20260331T173257Z
UID:7460-1783249200-1783254600@mosaicfortworth.com
SUMMARY:Sunday Gathering
DESCRIPTION:You’re invited to gather with us this Sunday at 11 AM\, July 5\, 2026. We come together each week to worship Jesus\, pray together\, and open the Scriptures in ways that speak to everyday life and shared faith. \nOur in-person gatherings take place at a local neighborhood school in the heart of Ventana\, a master-planned community in Southwest Fort Worth\, not far from Benbrook\, Texas. It’s a relaxed\, welcoming space where neighbors become friends\, and faith is formed together.
URL:https://mosaicfortworth.com/event/sunday-gathering-15/
LOCATION:Rolling Hills Elementary School\, 10351 Orchard Way\, Fort Worth\, TX\, 76126\, United States
CATEGORIES:Service
ATTACH;FMTTYPE=image/jpeg:https://mosaicfortworth.com/wp-content/uploads/2023/12/mcfw-rh-carousel-2024.jpg
END:VEVENT
BEGIN:VEVENT
DTSTART;TZID=America/Chicago:20260712T103000
DTEND;TZID=America/Chicago:20260712T104500
DTSTAMP:20260421T182429
CREATED:20260401T165358Z
LAST-MODIFIED:20260401T165358Z
UID:7538-1783852200-1783853100@mosaicfortworth.com
SUMMARY:Sunday Prayer
DESCRIPTION:Kick off your day with purpose and peace! Join us every Sunday at 10:30am for a powerful and refreshing time of Sunday Prayer. \nPrayer attunes our hearts\, aligns us with God’s presence\, and prepares us to worship with faith and expectation. No matter where you are in your prayer journey\, there’s a place with God for you here. \nIt’s a meaningful time to seek God together\, lift up our church and community\, and start the day grounded in His peace and power.  \nArrive a little early\, connect with God and others\, and be uplifted and open to what God has in store. \nWe’d love to have you with us. \n#PrayTogether #SeekJesus
URL:https://mosaicfortworth.com/event/sunday-prayer-15/
LOCATION:Rolling Hills Elementary School\, 10351 Orchard Way\, Fort Worth\, TX\, 76126\, United States
CATEGORIES:Community,Missions,Prayer,Worship
ATTACH;FMTTYPE=image/jpeg:https://mosaicfortworth.com/wp-content/uploads/2026/03/C7E99A41-267F-41D1-9865-9D917645EAFA.jpg
END:VEVENT
BEGIN:VEVENT
DTSTART;TZID=America/Chicago:20260712T110000
DTEND;TZID=America/Chicago:20260712T123000
DTSTAMP:20260421T182429
CREATED:20260331T173011Z
LAST-MODIFIED:20260331T173133Z
UID:7456-1783854000-1783859400@mosaicfortworth.com
SUMMARY:Sunday Gathering
DESCRIPTION:You’re invited to gather with us this Sunday at 11 AM\, July 12\, 2026. We come together each week to worship Jesus\, pray together\, and open the Scriptures in ways that speak to everyday life and shared faith. \nOur in-person gatherings take place at a local neighborhood school in the heart of Ventana\, a master-planned community in Southwest Fort Worth\, not far from Benbrook\, Texas. It’s a relaxed\, welcoming space where neighbors become friends\, and faith is formed together.
URL:https://mosaicfortworth.com/event/sunday-gathering-14/
LOCATION:Rolling Hills Elementary School\, 10351 Orchard Way\, Fort Worth\, TX\, 76126\, United States
CATEGORIES:Service
ATTACH;FMTTYPE=image/jpeg:https://mosaicfortworth.com/wp-content/uploads/2023/12/mcfw-rh-carousel-2024.jpg
END:VEVENT
BEGIN:VEVENT
DTSTART;TZID=America/Chicago:20260719T103000
DTEND;TZID=America/Chicago:20260719T104500
DTSTAMP:20260421T182429
CREATED:20260401T165837Z
LAST-MODIFIED:20260401T165837Z
UID:7540-1784457000-1784457900@mosaicfortworth.com
SUMMARY:Sunday Prayer
DESCRIPTION:Kick off your day with purpose and peace! Join us every Sunday at 10:30am for a powerful and refreshing time of Sunday Prayer. \nPrayer attunes our hearts\, aligns us with God’s presence\, and prepares us to worship with faith and expectation. No matter where you are in your prayer journey\, there’s a place with God for you here. \nIt’s a meaningful time to seek God together\, lift up our church and community\, and start the day grounded in His peace and power.  \nArrive a little early\, connect with God and others\, and be uplifted and open to what God has in store. \nWe’d love to have you with us. \n#PrayTogether #SeekJesus
URL:https://mosaicfortworth.com/event/sunday-prayer-16/
LOCATION:Rolling Hills Elementary School\, 10351 Orchard Way\, Fort Worth\, TX\, 76126\, United States
CATEGORIES:Community,Missions,Prayer,Worship
ATTACH;FMTTYPE=image/jpeg:https://mosaicfortworth.com/wp-content/uploads/2026/03/C7E99A41-267F-41D1-9865-9D917645EAFA.jpg
END:VEVENT
BEGIN:VEVENT
DTSTART;TZID=America/Chicago:20260719T110000
DTEND;TZID=America/Chicago:20260719T123000
DTSTAMP:20260421T182429
CREATED:20260331T173443Z
LAST-MODIFIED:20260331T173443Z
UID:7462-1784458800-1784464200@mosaicfortworth.com
SUMMARY:Sunday Gathering
DESCRIPTION:You’re invited to gather with us this Sunday at 11 AM\, July 19\, 2026. We come together each week to worship Jesus\, pray together\, and open the Scriptures in ways that speak to everyday life and shared faith. \nOur in-person gatherings take place at a local neighborhood school in the heart of Ventana\, a master-planned community in Southwest Fort Worth\, not far from Benbrook\, Texas. It’s a relaxed\, welcoming space where neighbors become friends\, and faith is formed together.
URL:https://mosaicfortworth.com/event/sunday-gathering-16/
LOCATION:Rolling Hills Elementary School\, 10351 Orchard Way\, Fort Worth\, TX\, 76126\, United States
CATEGORIES:Service
ATTACH;FMTTYPE=image/jpeg:https://mosaicfortworth.com/wp-content/uploads/2023/12/mcfw-rh-carousel-2024.jpg
END:VEVENT
BEGIN:VEVENT
DTSTART;TZID=America/Chicago:20260726T103000
DTEND;TZID=America/Chicago:20260726T104500
DTSTAMP:20260421T182429
CREATED:20260401T170000Z
LAST-MODIFIED:20260401T170000Z
UID:7542-1785061800-1785062700@mosaicfortworth.com
SUMMARY:Sunday Prayer
DESCRIPTION:Kick off your day with purpose and peace! Join us every Sunday at 10:30am for a powerful and refreshing time of Sunday Prayer. \nPrayer attunes our hearts\, aligns us with God’s presence\, and prepares us to worship with faith and expectation. No matter where you are in your prayer journey\, there’s a place with God for you here. \nIt’s a meaningful time to seek God together\, lift up our church and community\, and start the day grounded in His peace and power.  \nArrive a little early\, connect with God and others\, and be uplifted and open to what God has in store. \nWe’d love to have you with us. \n#PrayTogether #SeekJesus
URL:https://mosaicfortworth.com/event/sunday-prayer-17/
LOCATION:Rolling Hills Elementary School\, 10351 Orchard Way\, Fort Worth\, TX\, 76126\, United States
CATEGORIES:Community,Missions,Prayer,Worship
ATTACH;FMTTYPE=image/jpeg:https://mosaicfortworth.com/wp-content/uploads/2026/03/C7E99A41-267F-41D1-9865-9D917645EAFA.jpg
END:VEVENT
BEGIN:VEVENT
DTSTART;TZID=America/Chicago:20260726T110000
DTEND;TZID=America/Chicago:20260726T123000
DTSTAMP:20260421T182429
CREATED:20260331T173554Z
LAST-MODIFIED:20260331T173554Z
UID:7464-1785063600-1785069000@mosaicfortworth.com
SUMMARY:Sunday Gathering
DESCRIPTION:You’re invited to gather with us this Sunday at 11 AM\, July 26\, 2026. We come together each week to worship Jesus\, pray together\, and open the Scriptures in ways that speak to everyday life and shared faith. \nOur in-person gatherings take place at a local neighborhood school in the heart of Ventana\, a master-planned community in Southwest Fort Worth\, not far from Benbrook\, Texas. It’s a relaxed\, welcoming space where neighbors become friends\, and faith is formed together.
URL:https://mosaicfortworth.com/event/sunday-gathering-17/
LOCATION:Rolling Hills Elementary School\, 10351 Orchard Way\, Fort Worth\, TX\, 76126\, United States
CATEGORIES:Service
ATTACH;FMTTYPE=image/jpeg:https://mosaicfortworth.com/wp-content/uploads/2023/12/mcfw-rh-carousel-2024.jpg
END:VEVENT
END:VCALENDAR