BEGIN:VCALENDAR
VERSION:2.0
PRODID:-//Mosaic Church Fort Worth - ECPv6.15.20//NONSGML v1.0//EN
CALSCALE:GREGORIAN
METHOD:PUBLISH
X-WR-CALNAME:Mosaic Church Fort Worth
X-ORIGINAL-URL:https://mosaicfortworth.com
X-WR-CALDESC:Events for Mosaic Church Fort Worth
REFRESH-INTERVAL;VALUE=DURATION:PT1H
X-Robots-Tag:noindex
X-PUBLISHED-TTL:PT1H
BEGIN:VTIMEZONE
TZID:America/Chicago
BEGIN:DAYLIGHT
TZOFFSETFROM:-0600
TZOFFSETTO:-0500
TZNAME:CDT
DTSTART:20250309T080000
END:DAYLIGHT
BEGIN:STANDARD
TZOFFSETFROM:-0500
TZOFFSETTO:-0600
TZNAME:CST
DTSTART:20251102T070000
END:STANDARD
BEGIN:DAYLIGHT
TZOFFSETFROM:-0600
TZOFFSETTO:-0500
TZNAME:CDT
DTSTART:20260308T080000
END:DAYLIGHT
BEGIN:STANDARD
TZOFFSETFROM:-0500
TZOFFSETTO:-0600
TZNAME:CST
DTSTART:20261101T070000
END:STANDARD
BEGIN:DAYLIGHT
TZOFFSETFROM:-0600
TZOFFSETTO:-0500
TZNAME:CDT
DTSTART:20270314T080000
END:DAYLIGHT
BEGIN:STANDARD
TZOFFSETFROM:-0500
TZOFFSETTO:-0600
TZNAME:CST
DTSTART:20271107T070000
END:STANDARD
END:VTIMEZONE
BEGIN:VEVENT
DTSTART;TZID=America/Chicago:20260412T130000
DTEND;TZID=America/Chicago:20260412T141500
DTSTAMP:20260421T205852
CREATED:20260311T200749Z
LAST-MODIFIED:20260327T233151Z
UID:7350-1775998800-1776003300@mosaicfortworth.com
SUMMARY:Next Steps Course
DESCRIPTION:Ready to reserve your spot at our Next Steps Course?\nWe’re excited to have you attend our Next Steps Course. Joining our Next Steps Course is not only a valuable way to learn about Mosaic Church but also a way to connect with others in the community. \nWe encourage you to register for the next round of classes and take advantage of this opportunity to deepen your knowledge and understanding of our mission and beliefs. \n[ GET MORE DETAILS ]
URL:https://mosaicfortworth.com/event/next-steps-course/
LOCATION:Mosaic Church Fort Worth\, 4011 Benbrook Boulevard #G\, Fort Worth\, TX\, 76116\, United States
CATEGORIES:Community,Missions,Worship
ATTACH;FMTTYPE=image/jpeg:https://mosaicfortworth.com/wp-content/uploads/2025/01/NextSteps-Course_SCREEN.jpg
END:VEVENT
END:VCALENDAR