BEGIN:VCALENDAR
VERSION:2.0
PRODID:-//Mosaic Church Fort Worth - ECPv6.15.20//NONSGML v1.0//EN
CALSCALE:GREGORIAN
METHOD:PUBLISH
X-ORIGINAL-URL:https://mosaicfortworth.com
X-WR-CALDESC:Events for Mosaic Church Fort Worth
REFRESH-INTERVAL;VALUE=DURATION:PT1H
X-Robots-Tag:noindex
X-PUBLISHED-TTL:PT1H
BEGIN:VTIMEZONE
TZID:America/Chicago
BEGIN:DAYLIGHT
TZOFFSETFROM:-0600
TZOFFSETTO:-0500
TZNAME:CDT
DTSTART:20250309T080000
END:DAYLIGHT
BEGIN:STANDARD
TZOFFSETFROM:-0500
TZOFFSETTO:-0600
TZNAME:CST
DTSTART:20251102T070000
END:STANDARD
BEGIN:DAYLIGHT
TZOFFSETFROM:-0600
TZOFFSETTO:-0500
TZNAME:CDT
DTSTART:20260308T080000
END:DAYLIGHT
BEGIN:STANDARD
TZOFFSETFROM:-0500
TZOFFSETTO:-0600
TZNAME:CST
DTSTART:20261101T070000
END:STANDARD
BEGIN:DAYLIGHT
TZOFFSETFROM:-0600
TZOFFSETTO:-0500
TZNAME:CDT
DTSTART:20270314T080000
END:DAYLIGHT
BEGIN:STANDARD
TZOFFSETFROM:-0500
TZOFFSETTO:-0600
TZNAME:CST
DTSTART:20271107T070000
END:STANDARD
END:VTIMEZONE
BEGIN:VEVENT
DTSTART;TZID=America/Chicago:20260531T110000
DTEND;TZID=America/Chicago:20260531T123000
DTSTAMP:20260421T142953
CREATED:20260331T171935Z
LAST-MODIFIED:20260331T171935Z
UID:7446-1780225200-1780230600@mosaicfortworth.com
SUMMARY:Sunday Gathering
DESCRIPTION:You’re invited to gather with us this Sunday at 11 AM\, May 31\, 2026. We come together each week to worship Jesus\, pray together\, and open the Scriptures in ways that speak to everyday life and shared faith. \nOur in-person gatherings take place at a local neighborhood school in the heart of Ventana\, a master-planned community in Southwest Fort Worth\, not far from Benbrook\, Texas. It’s a relaxed\, welcoming space where neighbors become friends\, and faith is formed together.
URL:https://mosaicfortworth.com/event/sunday-gathering-5/
LOCATION:Rolling Hills Elementary School\, 10351 Orchard Way\, Fort Worth\, TX\, 76126\, United States
CATEGORIES:Service
ATTACH;FMTTYPE=image/jpeg:https://mosaicfortworth.com/wp-content/uploads/2023/12/mcfw-rh-carousel-2024.jpg
END:VEVENT
END:VCALENDAR