BEGIN:VCALENDAR
VERSION:2.0
PRODID:-//Mosaic Church Fort Worth - ECPv6.15.20//NONSGML v1.0//EN
CALSCALE:GREGORIAN
METHOD:PUBLISH
X-ORIGINAL-URL:https://mosaicfortworth.com
X-WR-CALDESC:Events for Mosaic Church Fort Worth
REFRESH-INTERVAL;VALUE=DURATION:PT1H
X-Robots-Tag:noindex
X-PUBLISHED-TTL:PT1H
BEGIN:VTIMEZONE
TZID:America/Chicago
BEGIN:DAYLIGHT
TZOFFSETFROM:-0600
TZOFFSETTO:-0500
TZNAME:CDT
DTSTART:20250309T080000
END:DAYLIGHT
BEGIN:STANDARD
TZOFFSETFROM:-0500
TZOFFSETTO:-0600
TZNAME:CST
DTSTART:20251102T070000
END:STANDARD
BEGIN:DAYLIGHT
TZOFFSETFROM:-0600
TZOFFSETTO:-0500
TZNAME:CDT
DTSTART:20260308T080000
END:DAYLIGHT
BEGIN:STANDARD
TZOFFSETFROM:-0500
TZOFFSETTO:-0600
TZNAME:CST
DTSTART:20261101T070000
END:STANDARD
BEGIN:DAYLIGHT
TZOFFSETFROM:-0600
TZOFFSETTO:-0500
TZNAME:CDT
DTSTART:20270314T080000
END:DAYLIGHT
BEGIN:STANDARD
TZOFFSETFROM:-0500
TZOFFSETTO:-0600
TZNAME:CST
DTSTART:20271107T070000
END:STANDARD
END:VTIMEZONE
BEGIN:VEVENT
DTSTART;TZID=America/Chicago:20261101T110000
DTEND;TZID=America/Chicago:20261101T123000
DTSTAMP:20260425T142207
CREATED:20260331T180245Z
LAST-MODIFIED:20260331T180245Z
UID:7492-1793530800-1793536200@mosaicfortworth.com
SUMMARY:Sunday Gathering
DESCRIPTION:You’re invited to gather with us this Sunday at 11 AM\, November 1\, 2026. We come together each week to worship Jesus\, pray together\, and open the Scriptures in ways that speak to everyday life and shared faith. \nOur in-person gatherings take place at a local neighborhood school in the heart of Ventana\, a master-planned community in Southwest Fort Worth\, not far from Benbrook\, Texas. It’s a relaxed\, welcoming space where neighbors become friends\, and faith is formed together.
URL:https://mosaicfortworth.com/event/sunday-gathering-31/
LOCATION:Rolling Hills Elementary School\, 10351 Orchard Way\, Fort Worth\, TX\, 76126\, United States
CATEGORIES:Service
ATTACH;FMTTYPE=image/jpeg:https://mosaicfortworth.com/wp-content/uploads/2023/12/mcfw-rh-carousel-2024.jpg
END:VEVENT
BEGIN:VEVENT
DTSTART;TZID=America/Chicago:20261108T110000
DTEND;TZID=America/Chicago:20261108T123000
DTSTAMP:20260425T142207
CREATED:20260331T180444Z
LAST-MODIFIED:20260331T180444Z
UID:7494-1794135600-1794141000@mosaicfortworth.com
SUMMARY:Sunday Gathering
DESCRIPTION:You’re invited to gather with us this Sunday at 11 AM\, November 8\, 2026. We come together each week to worship Jesus\, pray together\, and open the Scriptures in ways that speak to everyday life and shared faith. \nOur in-person gatherings take place at a local neighborhood school in the heart of Ventana\, a master-planned community in Southwest Fort Worth\, not far from Benbrook\, Texas. It’s a relaxed\, welcoming space where neighbors become friends\, and faith is formed together.
URL:https://mosaicfortworth.com/event/sunday-gathering-32/
LOCATION:Rolling Hills Elementary School\, 10351 Orchard Way\, Fort Worth\, TX\, 76126\, United States
CATEGORIES:Service
ATTACH;FMTTYPE=image/jpeg:https://mosaicfortworth.com/wp-content/uploads/2023/12/mcfw-rh-carousel-2024.jpg
END:VEVENT
BEGIN:VEVENT
DTSTART;TZID=America/Chicago:20261115T110000
DTEND;TZID=America/Chicago:20261115T123000
DTSTAMP:20260425T142207
CREATED:20260331T180606Z
LAST-MODIFIED:20260331T180606Z
UID:7496-1794740400-1794745800@mosaicfortworth.com
SUMMARY:Sunday Gathering
DESCRIPTION:You’re invited to gather with us this Sunday at 11 AM\, November 15\, 2026. We come together each week to worship Jesus\, pray together\, and open the Scriptures in ways that speak to everyday life and shared faith. \nOur in-person gatherings take place at a local neighborhood school in the heart of Ventana\, a master-planned community in Southwest Fort Worth\, not far from Benbrook\, Texas. It’s a relaxed\, welcoming space where neighbors become friends\, and faith is formed together.
URL:https://mosaicfortworth.com/event/sunday-gathering-33/
LOCATION:Rolling Hills Elementary School\, 10351 Orchard Way\, Fort Worth\, TX\, 76126\, United States
CATEGORIES:Service
ATTACH;FMTTYPE=image/jpeg:https://mosaicfortworth.com/wp-content/uploads/2023/12/mcfw-rh-carousel-2024.jpg
END:VEVENT
BEGIN:VEVENT
DTSTART;TZID=America/Chicago:20261122T110000
DTEND;TZID=America/Chicago:20261122T123000
DTSTAMP:20260425T142207
CREATED:20260331T180717Z
LAST-MODIFIED:20260331T180717Z
UID:7498-1795345200-1795350600@mosaicfortworth.com
SUMMARY:Sunday Gathering
DESCRIPTION:You’re invited to gather with us this Sunday at 11 AM\, November 22\, 2026. We come together each week to worship Jesus\, pray together\, and open the Scriptures in ways that speak to everyday life and shared faith. \nOur in-person gatherings take place at a local neighborhood school in the heart of Ventana\, a master-planned community in Southwest Fort Worth\, not far from Benbrook\, Texas. It’s a relaxed\, welcoming space where neighbors become friends\, and faith is formed together.
URL:https://mosaicfortworth.com/event/sunday-gathering-34/
LOCATION:Rolling Hills Elementary School\, 10351 Orchard Way\, Fort Worth\, TX\, 76126\, United States
CATEGORIES:Service
ATTACH;FMTTYPE=image/jpeg:https://mosaicfortworth.com/wp-content/uploads/2023/12/mcfw-rh-carousel-2024.jpg
END:VEVENT
BEGIN:VEVENT
DTSTART;TZID=America/Chicago:20261129T110000
DTEND;TZID=America/Chicago:20261129T123000
DTSTAMP:20260425T142207
CREATED:20260331T180823Z
LAST-MODIFIED:20260331T180823Z
UID:7500-1795950000-1795955400@mosaicfortworth.com
SUMMARY:Sunday Gathering
DESCRIPTION:You’re invited to gather with us this Sunday at 11 AM\, November 29\, 2026. We come together each week to worship Jesus\, pray together\, and open the Scriptures in ways that speak to everyday life and shared faith. \nOur in-person gatherings take place at a local neighborhood school in the heart of Ventana\, a master-planned community in Southwest Fort Worth\, not far from Benbrook\, Texas. It’s a relaxed\, welcoming space where neighbors become friends\, and faith is formed together.
URL:https://mosaicfortworth.com/event/sunday-gathering-35/
LOCATION:Rolling Hills Elementary School\, 10351 Orchard Way\, Fort Worth\, TX\, 76126\, United States
CATEGORIES:Service
ATTACH;FMTTYPE=image/jpeg:https://mosaicfortworth.com/wp-content/uploads/2023/12/mcfw-rh-carousel-2024.jpg
END:VEVENT
END:VCALENDAR