BEGIN:VCALENDAR
VERSION:2.0
PRODID:-//Mosaic Church Fort Worth - ECPv6.15.20//NONSGML v1.0//EN
CALSCALE:GREGORIAN
METHOD:PUBLISH
X-WR-CALNAME:Mosaic Church Fort Worth
X-ORIGINAL-URL:https://mosaicfortworth.com
X-WR-CALDESC:Events for Mosaic Church Fort Worth
REFRESH-INTERVAL;VALUE=DURATION:PT1H
X-Robots-Tag:noindex
X-PUBLISHED-TTL:PT1H
BEGIN:VTIMEZONE
TZID:America/Chicago
BEGIN:DAYLIGHT
TZOFFSETFROM:-0600
TZOFFSETTO:-0500
TZNAME:CDT
DTSTART:20250309T080000
END:DAYLIGHT
BEGIN:STANDARD
TZOFFSETFROM:-0500
TZOFFSETTO:-0600
TZNAME:CST
DTSTART:20251102T070000
END:STANDARD
BEGIN:DAYLIGHT
TZOFFSETFROM:-0600
TZOFFSETTO:-0500
TZNAME:CDT
DTSTART:20260308T080000
END:DAYLIGHT
BEGIN:STANDARD
TZOFFSETFROM:-0500
TZOFFSETTO:-0600
TZNAME:CST
DTSTART:20261101T070000
END:STANDARD
BEGIN:DAYLIGHT
TZOFFSETFROM:-0600
TZOFFSETTO:-0500
TZNAME:CDT
DTSTART:20270314T080000
END:DAYLIGHT
BEGIN:STANDARD
TZOFFSETFROM:-0500
TZOFFSETTO:-0600
TZNAME:CST
DTSTART:20271107T070000
END:STANDARD
END:VTIMEZONE
BEGIN:VEVENT
DTSTART;TZID=America/Chicago:20260610T190000
DTEND;TZID=America/Chicago:20260610T193000
DTSTAMP:20260421T183208
CREATED:20251228T140951Z
LAST-MODIFIED:20251228T140951Z
UID:7030-1781118000-1781119800@mosaicfortworth.com
SUMMARY:Weekly Prayer Call
DESCRIPTION:Join us every Wednesday at 7 pm on Zoom for a focused time of prayer. \nEach week\, people of all ages and backgrounds gather to seek God\, encourage one another\, and pray for real needs in our church\, our city\, our nation\, and beyond. This is a space to slow down\, listen\, and trust God to move in ways only He can. \nWhether prayer comes naturally to you or feels new\, you’re welcome here. As we pray together\, we ask Jesus to shape our hearts and lead us to love the world around us well. \nRegister to receive the Zoom link. We’d love to have you with us. \n#PrayerCall #PrayTogether #SeekJesus
URL:https://mosaicfortworth.com/event/weekly-prayer-call-22/
LOCATION:TX
CATEGORIES:Prayer
ATTACH;FMTTYPE=image/jpeg:https://mosaicfortworth.com/wp-content/uploads/2025/12/mcfw-weekly-prayer-call-7pm.jpg
END:VEVENT
END:VCALENDAR